BEGIN:VCALENDAR
VERSION:2.0
PRODID:-//wp-events-plugin.com//7.2.3.1//EN
TZID:Australia/Brisbane
X-WR-TIMEZONE:Australia/Brisbane
BEGIN:VEVENT
UID:89@whitsundaycoastchamber.com.au
DTSTART;TZID=Australia/Brisbane:20261119T073000
DTEND;TZID=Australia/Brisbane:20261119T090000
DTSTAMP:20260105T010002Z
URL:https://www.whitsundaycoastchamber.com.au/events/november-annual-gener
 al-meeting-meet-the-award-winners/
SUMMARY:NOVEMBER Annual General Meeting &amp\; Meet the Award Winners
DESCRIPTION:\nThe Chamber's Annual General Meeting (AGM) and meet the 2026 
 Whitsunday Business Award winners will be held Thursday 19 November. \n\n\
 n\nThe AGM is open to all\, and eligible members with voting rights.\n\n\n
 \nAt the AGM\, you will have the opportunity to:\n\n\n\n✔️ Hear update
 s on the Chamber’s operations\, finances\, and future direction.✔️ A
 sk questions and share feedback on key priorities.✔️ Vote on agenda it
 ems and contribute to shaping the Chamber’s year ahead.\n\n\n\n\n\n\n\n\
 n\n\n\n\n\n\n\nAnnual General Meeting \n\n\n\nThe AGM is open to all\, and
  eligible members have voting rights.\n\n\n\nAGENDA\n\n\n\n1. Accept&nbsp\
 ;minutes&nbsp\;of 2025 Annual General Meeting&nbsp\;\n\n\n\n2. Receive Pre
 sident’s Report&nbsp\;\n\n\n\n3. Receive Treasurer’s Report&nbsp\;\n\n
 \n\n4. Receive and adopt the Auditor’s Report\n\n\n\n5. Appoint auditor 
 for 2025-26\n\n\n\n6. Election of Office Bearers and Board members for 202
 6-27: The Chamber welcomes nominations for the Board which must be receive
 d in writing 14-days prior to the AGM (on or by 5 November 2026). Consider
 ation may be given to late nominations.\n\n\n\nThe Board is seeking repres
 entatives particularly from the trades\, accommodation\, food and beverage
 \, legal\, and health sectors.\n\n\n\nUnder the Chamber's Constitution s18
 (5) The Board shall have a maximum of ten (10) members of the association 
 with a minimum of four (4).\n\n\n\nCandidates will be&nbsp\;listed in alph
 abetical order\, with proposers&nbsp\;and seconders named\, when nominatio
 ns are received.\n\n\n\nPROXIES\n\n\n\nIf you are unable to attend the AGM
  and wish to vote\, please complete the&nbsp\;proxy form&nbsp\;and return 
 to it the Chamber via email by 5pm Wednesday 18 November 2026.\n\n\n\nEven
 t Details\n\n\n\nWhat: Chamber Annual General Meeting When: 7:30am-9am Thu
 rsday 19 November Where: Venue to be announced Includes breakfast treats.\
 n\n\n\nRegistration\n\n\n\nMembers of Chamber\, Weddings Whitsundays\, Tou
 rism Whitsundays and Cruise Ship Market vendors:&nbsp\;Two free tickets\, 
 no code required.\n\n\n\nDiscounted tickets&nbsp\;($18.75) for members of 
 our Association Partners:\n\n\n\n\nBowen Chamber of Commerce\n\n\n\nBowen 
 Collinsville Enterprise\n\n\n\nBowen Gumlu Growers Association\n\n\n\nBowe
 n Tourism &amp\; Business\n\n\n\nCreative Connections Whitsunday\n\n\n\nIs
 aac Business Chamber\n\n\n\nMackay Region Chamber of Commerce\n\n\n\nTowns
 ville Chamber of Commerce\n\n\n\nWhitsundays Charter Boat Industry Associa
 tion\n\n\n\nWhitsunday Neighbourhood Centre\n\n\n\n\nNon-member ticket:&nb
 sp\;$25\n
ATTACH;FMTTYPE=image/jpeg:https://www.whitsundaycoastchamber.com.au/wp-con
 tent/uploads/2025/08/Chamber-Website-251221.png
END:VEVENT
BEGIN:VTIMEZONE
TZID:Australia/Brisbane
X-LIC-LOCATION:Australia/Brisbane
BEGIN:STANDARD
DTSTART:20251119T073000
TZOFFSETFROM:+1000
TZOFFSETTO:+1000
TZNAME:AEST
END:STANDARD
END:VTIMEZONE
END:VCALENDAR