BEGIN:VCALENDAR
VERSION:2.0
PRODID:-//wp-events-plugin.com//7.2.3.1//EN
TZID:Australia/Brisbane
X-WR-TIMEZONE:Australia/Brisbane
BEGIN:VEVENT
UID:103@whitsundaycoastchamber.com.au
DTSTART;TZID=Australia/Brisbane:20260505T093000
DTEND;TZID=Australia/Brisbane:20260505T110000
DTSTAMP:20260410T040053Z
URL:https://www.whitsundaycoastchamber.com.au/events/may-cruise-ship-marke
 ts-meeting/
SUMMARY:MAY Cruise Ship Markets Meeting
DESCRIPTION:\n\n\n\n\nYou're invited to a relaxed morning tea where we can 
 come together\, connect\, and have a good chat about the future of the Air
 lie Beach Cruise Ship markets.\n\n\n\nJoin us as we share exciting updates
 \, upcoming opportunities\, and hear your feedback.\n\n\n\nThis is your ch
 ance to be part of the conversation\, ask questions\, and help shape what
 ’s next for the markets.\n\n\n\n\n\n\n\nEvent Details\n\n\n\nWhen: 9:30
 am-11:00am Tuesday 5 May Where: Club Whitsunday\, 2489 Shute Harbour Road\
 , Airlie BeachBookings: FREE of charge for current market vendors and Cha
 mber members. Morning tea provided. \n\n\n\nRegistration\n\n\n\nCurrent Cr
 uise Ship Market vendors and Chamber members: Two FREE tickets\, no code 
 required.General Admission (Non-Vendor/Members): $25\n
ATTACH;FMTTYPE=image/jpeg:https://www.whitsundaycoastchamber.com.au/wp-con
 tent/uploads/2026/03/Chamber-Website-Events-6.png
LOCATION:Club Whitsunday\, 2489 Shute Harbour Road\, Airlie Beach\, QLD\, A
 ustralia
X-APPLE-STRUCTURED-LOCATION;VALUE=URI;X-ADDRESS=2489 Shute Harbour Road\, A
 irlie Beach\, QLD\, Australia;X-APPLE-RADIUS=100;X-TITLE=Club Whitsunday:g
 eo:0,0
END:VEVENT
BEGIN:VTIMEZONE
TZID:Australia/Brisbane
X-LIC-LOCATION:Australia/Brisbane
BEGIN:STANDARD
DTSTART:20250505T093000
TZOFFSETFROM:+1000
TZOFFSETTO:+1000
TZNAME:AEST
END:STANDARD
END:VTIMEZONE
END:VCALENDAR